BEGIN:VCALENDAR
VERSION:2.0
PRODID:-//NorthWoods Stewardship Center - ECPv6.15.20//NONSGML v1.0//EN
CALSCALE:GREGORIAN
METHOD:PUBLISH
X-WR-CALNAME:NorthWoods Stewardship Center
X-ORIGINAL-URL:https://www.northwoodscenter.org/wordpress
X-WR-CALDESC:Events for NorthWoods Stewardship Center
REFRESH-INTERVAL;VALUE=DURATION:PT1H
X-Robots-Tag:noindex
X-PUBLISHED-TTL:PT1H
BEGIN:VTIMEZONE
TZID:America/New_York
BEGIN:DAYLIGHT
TZOFFSETFROM:-0500
TZOFFSETTO:-0400
TZNAME:EDT
DTSTART:20240310T070000
END:DAYLIGHT
BEGIN:STANDARD
TZOFFSETFROM:-0400
TZOFFSETTO:-0500
TZNAME:EST
DTSTART:20241103T060000
END:STANDARD
BEGIN:DAYLIGHT
TZOFFSETFROM:-0500
TZOFFSETTO:-0400
TZNAME:EDT
DTSTART:20250309T070000
END:DAYLIGHT
BEGIN:STANDARD
TZOFFSETFROM:-0400
TZOFFSETTO:-0500
TZNAME:EST
DTSTART:20251102T060000
END:STANDARD
BEGIN:DAYLIGHT
TZOFFSETFROM:-0500
TZOFFSETTO:-0400
TZNAME:EDT
DTSTART:20260308T070000
END:DAYLIGHT
BEGIN:STANDARD
TZOFFSETFROM:-0400
TZOFFSETTO:-0500
TZNAME:EST
DTSTART:20261101T060000
END:STANDARD
END:VTIMEZONE
BEGIN:VEVENT
DTSTART;VALUE=DATE:20250425
DTEND;VALUE=DATE:20250428
DTSTAMP:20260425T215403
CREATED:20250128T163628Z
LAST-MODIFIED:20250128T163628Z
UID:14164-1745539200-1745798399@www.northwoodscenter.org
SUMMARY:2025 VT Coverts Cooperator Training
DESCRIPTION:Choose your weekend! \nSpring Training: April 25-27 at Northwoods Stewardship Center\, East Charleston\, VT\nFall Training: September 12-14 Kehoe Conservation Camp\, Castleton\, VT \nIf you love your woodlands\, enjoy seeing wildlife and want to learn how a healthy forest can enhance wildlife habitat\, provide recreational and timber benefits this weekend is for you! Learn about managing your woodlands and reaching out to others in your community by attending. This program connects you with resource professionals\, landowners and others while learning how you can improve your woodlands. To learn more\, apply online\, see a sample agenda or download an application visit our website at www.vtcoverts.org or click here for the application. Contact Lisa Sausville lisa@vtcoverts.org with questions. \nPlease note a $100 deposit is required to hold your spot and is refundable upon request at completion of the Training. In exchange\, participants agree to fully participate in the Training and to share information on forest management with others in the coming years as part of a neighbor-to-neighbor network. Food and lodging provided in a camp or dorm like setting. \nVermont Coverts is a peer-to-peer community of landowners\, professionals and others learning from and supporting each other to enhance wildlife habitats through sound forest management. Coverts Cooperators are forest landowners and/or community members who are interested in having an impact on their own land and in their communities. 
URL:https://www.northwoodscenter.org/wordpress/event/2025-vt-coverts-cooperator-training/
LOCATION:NorthWoods Stewardship Center\, 154 Leadership Drive\, East Charleston\, VT\, 05833\, United States
CATEGORIES:Affiliate Event,Forest Stewardship Institute,General
ATTACH;FMTTYPE=image/webp:https://www.northwoodscenter.org/wordpress/wp-content/uploads/2023/04/coverts2023yale.webp
ORGANIZER;CN="Lisa Sausville":MAILTO:lisa@vtcoverts.org
END:VEVENT
BEGIN:VEVENT
DTSTART;TZID=America/New_York:20250430T173000
DTEND;TZID=America/New_York:20250430T193000
DTSTAMP:20260425T215403
CREATED:20250408T171829Z
LAST-MODIFIED:20250408T174110Z
UID:14308-1746034200-1746041400@www.northwoodscenter.org
SUMMARY:NWSC Seed Series: Riparian Woody Plant Phenology for Spring Collection
DESCRIPTION:Wednesday\, April 30\, 2025 \nTime: 5:30-7:30pm \nWhere: NorthWoods Stewardship Center \nJoin the Riparian Lands Team at NorthWoods Stewardship Center as they kick off NWSC’s Seed Collection Series and walk you through spring phenology of target tree and shrub species for seed collection across Vermont. Hear about seed collection and processing techniques used for spring species and how you can help us scout for species of interest. \nThis is the first in a series of events on seed collection. Attendees of this event will be invited to practice what they have learned by participating in field collection workshops in northern Vermont in May and August. Can’t make the Spring workshop? We will be holding a public Fall Phenology workshop on September 22\, with a collection day in October. \nThis class is eligible for 1.5 Society of American Forester CFE category 1 credits. Subsequent field collection day will be eligible for 2.5 SAF CFE Category 1 credits. \nThis educational program is funded in part by the Vermont Housing and Conservation Board and made possible by the Great Lakes Fisheries Commission. \nRegister Here
URL:https://www.northwoodscenter.org/wordpress/event/nwsc-seed-collection-series-spring-phenology-workshop/
LOCATION:NorthWoods Stewardship Center\, 154 Leadership Drive\, East Charleston\, VT\, 05833\, United States
CATEGORIES:Conservation Science,Forest Stewardship Institute
ATTACH;FMTTYPE=image/jpeg:https://www.northwoodscenter.org/wordpress/wp-content/uploads/2025/04/IMG_1173.jpeg
END:VEVENT
END:VCALENDAR