BEGIN:VCALENDAR
VERSION:2.0
PRODID:-//NorthWoods Stewardship Center - ECPv6.15.20//NONSGML v1.0//EN
CALSCALE:GREGORIAN
METHOD:PUBLISH
X-ORIGINAL-URL:https://www.northwoodscenter.org/wordpress
X-WR-CALDESC:Events for NorthWoods Stewardship Center
REFRESH-INTERVAL;VALUE=DURATION:PT1H
X-Robots-Tag:noindex
X-PUBLISHED-TTL:PT1H
BEGIN:VTIMEZONE
TZID:America/New_York
BEGIN:DAYLIGHT
TZOFFSETFROM:-0500
TZOFFSETTO:-0400
TZNAME:EDT
DTSTART:20250309T070000
END:DAYLIGHT
BEGIN:STANDARD
TZOFFSETFROM:-0400
TZOFFSETTO:-0500
TZNAME:EST
DTSTART:20251102T060000
END:STANDARD
BEGIN:DAYLIGHT
TZOFFSETFROM:-0500
TZOFFSETTO:-0400
TZNAME:EDT
DTSTART:20260308T070000
END:DAYLIGHT
BEGIN:STANDARD
TZOFFSETFROM:-0400
TZOFFSETTO:-0500
TZNAME:EST
DTSTART:20261101T060000
END:STANDARD
BEGIN:DAYLIGHT
TZOFFSETFROM:-0500
TZOFFSETTO:-0400
TZNAME:EDT
DTSTART:20270314T070000
END:DAYLIGHT
BEGIN:STANDARD
TZOFFSETFROM:-0400
TZOFFSETTO:-0500
TZNAME:EST
DTSTART:20271107T060000
END:STANDARD
END:VTIMEZONE
BEGIN:VEVENT
DTSTART;TZID=America/New_York:20260221T093000
DTEND;TZID=America/New_York:20260221T160000
DTSTAMP:20260423T160014
CREATED:20260121T212012Z
LAST-MODIFIED:20260122T161324Z
UID:14933-1771666200-1771689600@www.northwoodscenter.org
SUMMARY:Wildlife Track & Sign Workshop
DESCRIPTION:Saturday\, February 21\, 2026\, $5 \nTwo sessions: 9:30am to Noon OR 1:30pm to 4:00pm \n154 Leadership Drive\, East Charleston\, VT \nJoin Wildlife Track & Sign Professional Lucian Avery for a 2.5-hour excursion at NorthWoods Stewardship Center. Intended for beginner and intermediate wildlife trackers\, we will discuss track and trail identification and explore the behavior of any wildlife trails we find. \nThis program is geared towards adults and teens. Wear lots of warm layers\, as we will move at a gentle pace and spend lots of time circled up discussing the tracks we find (bundle up more than for your typical hike or walk in the woods)! \nSnowshoes may be required and are available to rent at NorthWoods ($10/pair). Bad weather date is Saturday\, February 28. \nAdvance registration is required. Please register for either the AM or PM session – group size is limited so that we can all circle around tracks together. \nHosted by NorthWoods Stewardship Center. \n  \nRegister Here\n  \n 
URL:https://www.northwoodscenter.org/wordpress/event/wildlife-track-sign-workshop/
LOCATION:NorthWoods Stewardship Center\, 154 Leadership Drive\, East Charleston\, VT\, 05833\, United States
CATEGORIES:Education,Forest Stewardship Institute,General
ATTACH;FMTTYPE=image/jpeg:https://www.northwoodscenter.org/wordpress/wp-content/uploads/2026/01/20250312_130210-e1769097881795.jpg
END:VEVENT
END:VCALENDAR