BEGIN:VCALENDAR
VERSION:2.0
PRODID:-//NorthWoods Stewardship Center - ECPv6.15.20//NONSGML v1.0//EN
CALSCALE:GREGORIAN
METHOD:PUBLISH
X-ORIGINAL-URL:https://www.northwoodscenter.org/wordpress
X-WR-CALDESC:Events for NorthWoods Stewardship Center
REFRESH-INTERVAL;VALUE=DURATION:PT1H
X-Robots-Tag:noindex
X-PUBLISHED-TTL:PT1H
BEGIN:VTIMEZONE
TZID:America/New_York
BEGIN:DAYLIGHT
TZOFFSETFROM:-0500
TZOFFSETTO:-0400
TZNAME:EDT
DTSTART:20250309T070000
END:DAYLIGHT
BEGIN:STANDARD
TZOFFSETFROM:-0400
TZOFFSETTO:-0500
TZNAME:EST
DTSTART:20251102T060000
END:STANDARD
BEGIN:DAYLIGHT
TZOFFSETFROM:-0500
TZOFFSETTO:-0400
TZNAME:EDT
DTSTART:20260308T070000
END:DAYLIGHT
BEGIN:STANDARD
TZOFFSETFROM:-0400
TZOFFSETTO:-0500
TZNAME:EST
DTSTART:20261101T060000
END:STANDARD
BEGIN:DAYLIGHT
TZOFFSETFROM:-0500
TZOFFSETTO:-0400
TZNAME:EDT
DTSTART:20270314T070000
END:DAYLIGHT
BEGIN:STANDARD
TZOFFSETFROM:-0400
TZOFFSETTO:-0500
TZNAME:EST
DTSTART:20271107T060000
END:STANDARD
END:VTIMEZONE
BEGIN:VEVENT
DTSTART;TZID=America/New_York:20260102T130000
DTEND;TZID=America/New_York:20260102T160000
DTSTAMP:20260424T032856
CREATED:20251208T205034Z
LAST-MODIFIED:20251208T205152Z
UID:14801-1767358800-1767369600@www.northwoodscenter.org
SUMMARY:Trailblazers
DESCRIPTION:Friday\, January 2\, 1pm-4pm\nAn afternoon of adventure & community building. Open to female and gender-expansive youth ages 9-14 from the Northeast Kingdom. Cross-country ski\, hot chocoloate\, and conversation led by local female mentors. Designed to get more girls adventuring outside\, building community with each other\, and learning leadership skills!\nNo experience required. Participants should wear/bring a warm jacket\, snowpants\, and gloves/mittens—we will be outside in the snow. XC Skis and boots will be available\, but please bring your own if you have them!  \nThis event will be led by Camryn Reimert—a Burke local with three years of experience working at NorthWoods camps. She is 18 years old\, a senior at Phillips Exeter Academy\, and started Trailblazers hoping to get more girls from the NEK together to find community and inspiration adventuring outdoors. \n  \nRegister Here
URL:https://www.northwoodscenter.org/wordpress/event/trailblazers/
LOCATION:NorthWoods Stewardship Center\, 154 Leadership Drive\, East Charleston\, VT\, 05833\, United States
CATEGORIES:Education,General,Outdoor Recreation
ATTACH;FMTTYPE=image/jpeg:https://www.northwoodscenter.org/wordpress/wp-content/uploads/2025/12/FullSizeRender-8.jpg
END:VEVENT
BEGIN:VEVENT
DTSTART;TZID=America/New_York:20260103T170000
DTEND;TZID=America/New_York:20260103T193000
DTSTAMP:20260424T032856
CREATED:20251211T203410Z
LAST-MODIFIED:20251216T135547Z
UID:14836-1767459600-1767468600@www.northwoodscenter.org
SUMMARY:The Hidden Lines—Film Screening
DESCRIPTION:Saturday\, January 3 \n Doors 5pm\, Film 5:45pm \nShowing of the film The Hidden Lines (22min)\, includes social hour\, film screening\, Q&A and behind-the-scenes slideshow. \nAt the heart of this film is Adam Kruszyna\, a Vermont native whose mental map of his home terrain has been years in the making. What began in the 250-acre forest behind his childhood home has grown to include the rugged backcountry of Jay\, Vermont. An engineer by trade and a dedicated skier\, Adam doesn’t reject technology — he uses it with intention. By tracking routes\, logging conditions\, and mapping lines\, he not only makes the terrain more navigable\, but also builds a deeper\, more intuitive understanding of the landscape he calls home. \nIn The Hidden Lines\, we follow Adam as he returns to previously written-off zones with a more refined eye\, revisiting terrain with a methodical blend of intuition and engineering precision. His goal is not just to ski the best lines on the East Coast\, it’s to connect to them deeply\, and in doing so\, connect to something larger than skiing. \nSuggested Donation: $10 \nBuy Tickets\n  \n 
URL:https://www.northwoodscenter.org/wordpress/event/the-hidden-lines-film-screening/
LOCATION:Burke Hotel Ballroom\, 2559 Mountain Rd\, East Burke\, 05832\, United States
CATEGORIES:General,Outdoor Recreation
ATTACH;FMTTYPE=image/jpeg:https://www.northwoodscenter.org/wordpress/wp-content/uploads/2025/12/Northwoods-Event-Web-Banner.jpg
END:VEVENT
BEGIN:VEVENT
DTSTART;TZID=America/New_York:20260117T100000
DTEND;TZID=America/New_York:20260307T150000
DTSTAMP:20260424T032856
CREATED:20251212T193015Z
LAST-MODIFIED:20260227T210603Z
UID:14844-1768644000-1772895600@www.northwoodscenter.org
SUMMARY:Winter Open Lodge
DESCRIPTION:Every Saturday\, January 17-February 28 March 7 \n10-3pm \nNew this winter\, stop by during our Winter Open Lodge! We have trails for everyone\, come tour our 13km network of groomed trails\, including our All Persons Trail loop. Our staffed lodge will have a fire blazing and hot cocoa on offer\, with ski and snowshoe rentals available. Accessible equipment available\, thanks to our friends at Adaptive Sports Partners! \nWe plan to have a few workshops concurrent with the Winter Open Lodge\, so stay tuned for more!
URL:https://www.northwoodscenter.org/wordpress/event/winter-open-lodge/
LOCATION:NorthWoods Stewardship Center\, 154 Leadership Drive\, East Charleston\, VT\, 05833\, United States
CATEGORIES:General,Outdoor Recreation
ATTACH;FMTTYPE=image/jpeg:https://www.northwoodscenter.org/wordpress/wp-content/uploads/2024/12/4303669971502475683-e1765570297132.jpeg
END:VEVENT
END:VCALENDAR