BEGIN:VCALENDAR
VERSION:2.0
PRODID:-//NorthWoods Stewardship Center - ECPv6.15.20//NONSGML v1.0//EN
CALSCALE:GREGORIAN
METHOD:PUBLISH
X-WR-CALNAME:NorthWoods Stewardship Center
X-ORIGINAL-URL:https://www.northwoodscenter.org/wordpress
X-WR-CALDESC:Events for NorthWoods Stewardship Center
REFRESH-INTERVAL;VALUE=DURATION:PT1H
X-Robots-Tag:noindex
X-PUBLISHED-TTL:PT1H
BEGIN:VTIMEZONE
TZID:America/New_York
BEGIN:DAYLIGHT
TZOFFSETFROM:-0500
TZOFFSETTO:-0400
TZNAME:EDT
DTSTART:20240310T070000
END:DAYLIGHT
BEGIN:STANDARD
TZOFFSETFROM:-0400
TZOFFSETTO:-0500
TZNAME:EST
DTSTART:20241103T060000
END:STANDARD
BEGIN:DAYLIGHT
TZOFFSETFROM:-0500
TZOFFSETTO:-0400
TZNAME:EDT
DTSTART:20250309T070000
END:DAYLIGHT
BEGIN:STANDARD
TZOFFSETFROM:-0400
TZOFFSETTO:-0500
TZNAME:EST
DTSTART:20251102T060000
END:STANDARD
BEGIN:DAYLIGHT
TZOFFSETFROM:-0500
TZOFFSETTO:-0400
TZNAME:EDT
DTSTART:20260308T070000
END:DAYLIGHT
BEGIN:STANDARD
TZOFFSETFROM:-0400
TZOFFSETTO:-0500
TZNAME:EST
DTSTART:20261101T060000
END:STANDARD
END:VTIMEZONE
BEGIN:VEVENT
DTSTART;TZID=America/New_York:20250920T080000
DTEND;TZID=America/New_York:20250921T170000
DTSTAMP:20260424T121411
CREATED:20250527T200319Z
LAST-MODIFIED:20250722T025914Z
UID:14391-1758355200-1758474000@www.northwoodscenter.org
SUMMARY:Game of Logging Levels 1 & 2
DESCRIPTION:Level 1 – Saturday\, September 20 \nLevel 2 – Sunday\, September 21 \nCost: $250 per level \nExpert instructors from Northeast Woodland Training will teach the fundamentals of safe chainsaw use\, precision tree felling\, and equipment care. Take the guesswork out of sawing- your safety matters! \nThe minimum age for Game of Logging classes at NorthWoods is 16 years old. Participants ages 16-17 must have a parent/guardian waiver. \nFor more information and to register contact forestry@northwoodscenter.org. \nPre-registration required; space is limited\, so sign up early!
URL:https://www.northwoodscenter.org/wordpress/event/game-of-logging-levels-1-2-3/
LOCATION:NorthWoods Stewardship Center\, 154 Leadership Drive\, East Charleston\, VT\, 05833\, United States
CATEGORIES:Forest Stewardship Institute,General
ATTACH;FMTTYPE=image/jpeg:https://www.northwoodscenter.org/wordpress/wp-content/uploads/2025/05/DSC_3385a.jpg
END:VEVENT
BEGIN:VEVENT
DTSTART;TZID=America/New_York:20250921T130000
DTEND;TZID=America/New_York:20250921T150000
DTSTAMP:20260424T121411
CREATED:20250827T161813Z
LAST-MODIFIED:20250910T163912Z
UID:14610-1758459600-1758466800@www.northwoodscenter.org
SUMMARY:Fall Riparian Seed Collection Workshop
DESCRIPTION:Sunday\, September 21\, 1pm-3pm \nLearn about seed id\, collection\, and processing techniques used for fall species and how you can help us scout for species of interest. Attendees of the classroom workshop will be invited to practice what they have learned by participating in a field collection workshop in October. \nThis course is eligible for credits with the Society of American Foresters. Please inquire with organizer Jess Colby for more information: jess@northwoodscenter.org \nThis event is made possible through funding from the Vermont Housing & Conservation Board. \n  \nRegister Here
URL:https://www.northwoodscenter.org/wordpress/event/fall-riparian-seed-collection-workshop/
LOCATION:NorthWoods Stewardship Center\, 154 Leadership Drive\, East Charleston\, VT\, 05833\, United States
CATEGORIES:Conservation Science,General
ATTACH;FMTTYPE=image/jpeg:https://www.northwoodscenter.org/wordpress/wp-content/uploads/2025/08/NewConesCorrie-e1757522341189.jpeg
END:VEVENT
END:VCALENDAR