BEGIN:VCALENDAR
VERSION:2.0
PRODID:-//NorthWoods Stewardship Center - ECPv6.15.20//NONSGML v1.0//EN
CALSCALE:GREGORIAN
METHOD:PUBLISH
X-WR-CALNAME:NorthWoods Stewardship Center
X-ORIGINAL-URL:https://www.northwoodscenter.org/wordpress
X-WR-CALDESC:Events for NorthWoods Stewardship Center
REFRESH-INTERVAL;VALUE=DURATION:PT1H
X-Robots-Tag:noindex
X-PUBLISHED-TTL:PT1H
BEGIN:VTIMEZONE
TZID:America/New_York
BEGIN:DAYLIGHT
TZOFFSETFROM:-0500
TZOFFSETTO:-0400
TZNAME:EDT
DTSTART:20240310T070000
END:DAYLIGHT
BEGIN:STANDARD
TZOFFSETFROM:-0400
TZOFFSETTO:-0500
TZNAME:EST
DTSTART:20241103T060000
END:STANDARD
BEGIN:DAYLIGHT
TZOFFSETFROM:-0500
TZOFFSETTO:-0400
TZNAME:EDT
DTSTART:20250309T070000
END:DAYLIGHT
BEGIN:STANDARD
TZOFFSETFROM:-0400
TZOFFSETTO:-0500
TZNAME:EST
DTSTART:20251102T060000
END:STANDARD
BEGIN:DAYLIGHT
TZOFFSETFROM:-0500
TZOFFSETTO:-0400
TZNAME:EDT
DTSTART:20260308T070000
END:DAYLIGHT
BEGIN:STANDARD
TZOFFSETFROM:-0400
TZOFFSETTO:-0500
TZNAME:EST
DTSTART:20261101T060000
END:STANDARD
END:VTIMEZONE
BEGIN:VEVENT
DTSTART;TZID=America/New_York:20250607T080000
DTEND;TZID=America/New_York:20250608T163000
DTSTAMP:20260424T104556
CREATED:20250512T220405Z
LAST-MODIFIED:20250512T220405Z
UID:14370-1749283200-1749400200@www.northwoodscenter.org
SUMMARY:SOLO Wilderness First Aid Course
DESCRIPTION:Saturday\, June 7- Sunday\, June 8\, 8am-4:30pm \nCost: $225 \nBring your own lunch. \nJoin us for a SOLO Wilderness First Aid Course. Accidents happen. People get hurt\, sick\, or lost. The temperature drops\, the wind picks up\, and it starts to rain. Would you know what to do? Many backcountry emergencies are preventable\, and even when bad things happen\, sometimes the wrong care can make things worse. By learning a few basic skills\, you can make the difference between a good outcome and a bad one—and maybe even save a life. \nWFA is the perfect course for everyone\, including the outdoor enthusiast or trip leader who wants a basic level of first aid training for short trips with family\, friends\, and outdoor groups. The SOLO WFA Course meets the American Camping Association (ACA) guidelines. \nThe WFA course is 16 hours long (two days)\, and focuses on the basic skills of: Response and Assessment\, Musculoskeletal Injuries\, Environmental Emergencies\, Survival Skills\, Soft Tissue Injuries\, and Medical Emergencies. \n  \nRegister Here\n  \n 
URL:https://www.northwoodscenter.org/wordpress/event/solo-wilderness-first-aid-course/
LOCATION:NorthWoods Stewardship Center\, 154 Leadership Drive\, East Charleston\, VT\, 05833\, United States
CATEGORIES:General,Trainings
ATTACH;FMTTYPE=image/jpeg:https://www.northwoodscenter.org/wordpress/wp-content/uploads/2020/01/WFAmegdusty.jpg
END:VEVENT
BEGIN:VEVENT
DTSTART;VALUE=DATE:20250628
DTEND;VALUE=DATE:20250630
DTSTAMP:20260424T104556
CREATED:20250512T172052Z
LAST-MODIFIED:20250515T163442Z
UID:14366-1751068800-1751241599@www.northwoodscenter.org
SUMMARY:Game of Logging Levels 1 & 2
DESCRIPTION:Level 1 – Saturday\, June 28 \nLevel 2 – Sunday\, June 29 \nCost: $250 per level \nExpert instructors from Northeast Woodland Training will teach the fundamentals of safe chainsaw use\, precision tree felling\, and equipment care. Take the guesswork out of sawing- your safety matters! \nThe minimum age for Game of Logging classes at NorthWoods is 16 years old. Participants ages 16-17 must have a parent/guardian waiver. \nFor more information and to register contact forestry@northwoodscenter.org. \nPre-registration required; space is limited\, so sign up early!
URL:https://www.northwoodscenter.org/wordpress/event/game-of-logging-levels-1-2/
LOCATION:NorthWoods Stewardship Center\, 154 Leadership Drive\, East Charleston\, VT\, 05833\, United States
CATEGORIES:Forest Stewardship Institute,Trainings
ATTACH;FMTTYPE=image/jpeg:https://www.northwoodscenter.org/wordpress/wp-content/uploads/2012/06/game-of-loggin1.jpg
END:VEVENT
END:VCALENDAR