BEGIN:VCALENDAR
VERSION:2.0
PRODID:-//NorthWoods Stewardship Center - ECPv6.15.20//NONSGML v1.0//EN
CALSCALE:GREGORIAN
METHOD:PUBLISH
X-WR-CALNAME:NorthWoods Stewardship Center
X-ORIGINAL-URL:https://www.northwoodscenter.org/wordpress
X-WR-CALDESC:Events for NorthWoods Stewardship Center
REFRESH-INTERVAL;VALUE=DURATION:PT1H
X-Robots-Tag:noindex
X-PUBLISHED-TTL:PT1H
BEGIN:VTIMEZONE
TZID:America/New_York
BEGIN:DAYLIGHT
TZOFFSETFROM:-0500
TZOFFSETTO:-0400
TZNAME:EDT
DTSTART:20250309T070000
END:DAYLIGHT
BEGIN:STANDARD
TZOFFSETFROM:-0400
TZOFFSETTO:-0500
TZNAME:EST
DTSTART:20251102T060000
END:STANDARD
BEGIN:DAYLIGHT
TZOFFSETFROM:-0500
TZOFFSETTO:-0400
TZNAME:EDT
DTSTART:20260308T070000
END:DAYLIGHT
BEGIN:STANDARD
TZOFFSETFROM:-0400
TZOFFSETTO:-0500
TZNAME:EST
DTSTART:20261101T060000
END:STANDARD
BEGIN:DAYLIGHT
TZOFFSETFROM:-0500
TZOFFSETTO:-0400
TZNAME:EDT
DTSTART:20270314T070000
END:DAYLIGHT
BEGIN:STANDARD
TZOFFSETFROM:-0400
TZOFFSETTO:-0500
TZNAME:EST
DTSTART:20271107T060000
END:STANDARD
END:VTIMEZONE
BEGIN:VEVENT
DTSTART;TZID=America/New_York:20260620T080000
DTEND;TZID=America/New_York:20260621T170000
DTSTAMP:20260423T153836
CREATED:20260421T202709Z
LAST-MODIFIED:20260421T202709Z
UID:15127-1781942400-1782061200@www.northwoodscenter.org
SUMMARY:Game of Logging: Beginner Use and Safety & Level 1
DESCRIPTION:Beginner Use and Safety & Level 1 \nCost: $200 per level \nSaturday June 20\, and Sunday June 21\, 2026 \nWomen & Our Woods Vermont invites you to learn to be safe with a chainsaw through these two offered courses: Beginner Use and Safety and Level 1 Game of Logging. \nExpert instructors from Northeast Woodland Training will teach the fundamentals of safe chainsaw use\, precision tree felling\, and equipment care. These courses are designed to introduce the safe handling of a chainsaw\, as well as boosting the confidence level of anyone who has very little or no experience with a saw. \nTopics covered: parts of a chainsaw\, safety\, bucking (cutting an already felled tree)\, and basic maintenance. \nParticipants should bring a helmet with face shield\, eye and ear protection\, or chaps if they have them\, otherwise these will be provided during the class. If you don’t have protective equipment we recommend waiting until after the class to purchase it\, since you’ll learn about different types of protective gear. \nThese courses are an excellent foundation for someone who may go on to attend higher Game of Logging training. Class size is limited to 10 each level. \nLevel 1 participants for this session are required to have completed the Beginner Use & Safety course in the past. \nThe minimum age for Game of Logging classes at NorthWoods is 16 years old. Participants ages 16-17 must have a parent/guardian waiver. \nFor more information and to register contact forestry@northwoodscenter.org. Pre-registration required; space is limited\, so sign up early!
URL:https://www.northwoodscenter.org/wordpress/event/game-of-logging-beginner-use-and-safety-level-1/
LOCATION:NorthWoods Stewardship Center\, 154 Leadership Drive\, East Charleston\, VT\, 05833\, United States
CATEGORIES:Forest Stewardship Institute
ATTACH;FMTTYPE=image/jpeg:https://www.northwoodscenter.org/wordpress/wp-content/uploads/2026/04/IMG_8367.jpg
END:VEVENT
END:VCALENDAR