BEGIN:VCALENDAR
VERSION:2.0
PRODID:-//NorthWoods Stewardship Center - ECPv6.15.20//NONSGML v1.0//EN
CALSCALE:GREGORIAN
METHOD:PUBLISH
X-WR-CALNAME:NorthWoods Stewardship Center
X-ORIGINAL-URL:https://www.northwoodscenter.org/wordpress
X-WR-CALDESC:Events for NorthWoods Stewardship Center
REFRESH-INTERVAL;VALUE=DURATION:PT1H
X-Robots-Tag:noindex
X-PUBLISHED-TTL:PT1H
BEGIN:VTIMEZONE
TZID:America/New_York
BEGIN:DAYLIGHT
TZOFFSETFROM:-0500
TZOFFSETTO:-0400
TZNAME:EDT
DTSTART:20250309T070000
END:DAYLIGHT
BEGIN:STANDARD
TZOFFSETFROM:-0400
TZOFFSETTO:-0500
TZNAME:EST
DTSTART:20251102T060000
END:STANDARD
BEGIN:DAYLIGHT
TZOFFSETFROM:-0500
TZOFFSETTO:-0400
TZNAME:EDT
DTSTART:20260308T070000
END:DAYLIGHT
BEGIN:STANDARD
TZOFFSETFROM:-0400
TZOFFSETTO:-0500
TZNAME:EST
DTSTART:20261101T060000
END:STANDARD
BEGIN:DAYLIGHT
TZOFFSETFROM:-0500
TZOFFSETTO:-0400
TZNAME:EDT
DTSTART:20270314T070000
END:DAYLIGHT
BEGIN:STANDARD
TZOFFSETFROM:-0400
TZOFFSETTO:-0500
TZNAME:EST
DTSTART:20271107T060000
END:STANDARD
END:VTIMEZONE
BEGIN:VEVENT
DTSTART;TZID=America/New_York:20260214T173000
DTEND;TZID=America/New_York:20260214T193000
DTSTAMP:20260424T085920
CREATED:20260109T130005Z
LAST-MODIFIED:20260109T130249Z
UID:14818-1771090200-1771097400@www.northwoodscenter.org
SUMMARY:Valentine's Day Candlelit Snowshoe
DESCRIPTION:Saturday\, February 14th \nSession 1: 5:30\, Session 2: 6:30  \n$15/single or $20/pair  \nJoin us for a beautiful evening snowshoe through the candlelit forest with your sweetheart\, friends or family\, then cozy up to a warm fire with some hot chocolate and sweet treats to listen to live music by Ben Kinsley on classical guitar! Children under 12 attend for free. Route will follow our new All Persons Trail – a wide\, undulating 3/4 mile long groomed loop. \nSnowshoes are included with rental\, or you are welcome to bring your own. \nPre-registration required\, as winter parking is limited. 50% refunds will be provided for cancellations made at least a week before event start date. No refunds for reservations canceled less than seven days before the event start date. \nRegister Here
URL:https://www.northwoodscenter.org/wordpress/event/valentines-day-candlelit-snowshoe/
LOCATION:NorthWoods Stewardship Center\, 154 Leadership Drive\, East Charleston\, VT\, 05833\, United States
CATEGORIES:General,Outdoor Recreation
ATTACH;FMTTYPE=image/jpeg:https://www.northwoodscenter.org/wordpress/wp-content/uploads/2024/12/valentinesnowshoe19-e1737747913360.jpg
END:VEVENT
END:VCALENDAR