BEGIN:VCALENDAR
VERSION:2.0
PRODID:-//NorthWoods Stewardship Center - ECPv6.15.20//NONSGML v1.0//EN
CALSCALE:GREGORIAN
METHOD:PUBLISH
X-ORIGINAL-URL:https://www.northwoodscenter.org/wordpress
X-WR-CALDESC:Events for NorthWoods Stewardship Center
REFRESH-INTERVAL;VALUE=DURATION:PT1H
X-Robots-Tag:noindex
X-PUBLISHED-TTL:PT1H
BEGIN:VTIMEZONE
TZID:America/New_York
BEGIN:DAYLIGHT
TZOFFSETFROM:-0500
TZOFFSETTO:-0400
TZNAME:EDT
DTSTART:20240310T070000
END:DAYLIGHT
BEGIN:STANDARD
TZOFFSETFROM:-0400
TZOFFSETTO:-0500
TZNAME:EST
DTSTART:20241103T060000
END:STANDARD
BEGIN:DAYLIGHT
TZOFFSETFROM:-0500
TZOFFSETTO:-0400
TZNAME:EDT
DTSTART:20250309T070000
END:DAYLIGHT
BEGIN:STANDARD
TZOFFSETFROM:-0400
TZOFFSETTO:-0500
TZNAME:EST
DTSTART:20251102T060000
END:STANDARD
BEGIN:DAYLIGHT
TZOFFSETFROM:-0500
TZOFFSETTO:-0400
TZNAME:EDT
DTSTART:20260308T070000
END:DAYLIGHT
BEGIN:STANDARD
TZOFFSETFROM:-0400
TZOFFSETTO:-0500
TZNAME:EST
DTSTART:20261101T060000
END:STANDARD
END:VTIMEZONE
BEGIN:VEVENT
DTSTART;TZID=America/New_York:20251109T084500
DTEND;TZID=America/New_York:20251109T130000
DTSTAMP:20260424T085930
CREATED:20251017T150659Z
LAST-MODIFIED:20251020T151742Z
UID:14651-1762677900-1762693200@www.northwoodscenter.org
SUMMARY:Winter Trails Prep at Willoughby State Forest
DESCRIPTION:Sunday\, November 9\, 8:45am-1pm \nDo you love spending time in the Willoughby State Forest on skis or snowshoes? We know it is a favorite network for many locals and visitors. \nNorthWoods Stewardship Center contracts with the State of Vermont Department of Forests\, Parks and Recreation to groom the ski and snowshoe trails in Willoughby State Forest. This year\, we are seeking volunteers to help prep the trails for winter fun. \nMeet at the parking CCC Road parking lot\, just off Rte 5a at 8:45 am. \nWe’ll finish by 1 pm. Wear workwear (gloves\, boots\, long pants\, long sleeves) and bring along water\, snacks/lunch and layers. No prior experience necessary. NorthWoods will provide hand tools\, brush saws and protective equipment. Note that chainsaw use is restricted to staff. \nThe Northeast Kingdom Backcountry Coalition will also be hosting a volunteer work day on the backcountry glades on the same day – so winter enthusiasts of all types can meet\, greet and get ready for winter together. \nRegistration preferred\, but not required. \n  \nSign up here!
URL:https://www.northwoodscenter.org/wordpress/event/winter-trails-prep-at-willoughby-state-forest/
CATEGORIES:Outdoor Recreation
ATTACH;FMTTYPE=image/jpeg:https://www.northwoodscenter.org/wordpress/wp-content/uploads/2025/10/20180208_130110-1.jpg
END:VEVENT
END:VCALENDAR